Package: iterClust Version: 1.26.0 Command: rm -rf iterClust.buildbin-libdir && mkdir iterClust.buildbin-libdir && /Users/biocbuild/BBS/utils/build-universal.sh iterClust_1.26.0.tar.gz /Library/Frameworks/R.framework/Resources/bin/R iterClust.buildbin-libdir StartedAt: 2024-06-11 11:46:36 -0400 (Tue, 11 Jun 2024) EndedAt: 2024-06-11 11:46:45 -0400 (Tue, 11 Jun 2024) EllapsedTime: 8.7 seconds RetCode: 0 Status: OK PackageFile: iterClust_1.26.0.tgz PackageFileSize: 142.6 KiB