Package: impute Version: 1.78.0 Command: /Library/Frameworks/R.framework/Resources/bin/R CMD check --install=check:impute.install-out.txt --library=/Library/Frameworks/R.framework/Resources/library --no-vignettes --timings impute_1.78.0.tar.gz StartedAt: 2024-10-18 01:09:42 -0400 (Fri, 18 Oct 2024) EndedAt: 2024-10-18 01:10:04 -0400 (Fri, 18 Oct 2024) EllapsedTime: 22.2 seconds RetCode: 0 Status: WARNINGS CheckDir: impute.Rcheck Warnings: 1