Package: imcRtools Version: 1.10.0 Command: /Library/Frameworks/R.framework/Resources/bin/R CMD build --keep-empty-dirs --no-resave-data imcRtools StartedAt: 2024-10-16 20:08:43 -0400 (Wed, 16 Oct 2024) EndedAt: 2024-10-16 20:16:45 -0400 (Wed, 16 Oct 2024) EllapsedTime: 482.0 seconds RetCode: 0 Status: OK PackageFile: imcRtools_1.10.0.tar.gz PackageFileSize: 6.775 MiB