Package: icetea Version: 1.22.0 Command: /Library/Frameworks/R.framework/Resources/bin/R CMD check --install=check:icetea.install-out.txt --library=/Library/Frameworks/R.framework/Resources/library --no-vignettes --timings icetea_1.22.0.tar.gz StartedAt: 2024-06-09 20:58:33 -0400 (Sun, 09 Jun 2024) EndedAt: 2024-06-09 21:05:36 -0400 (Sun, 09 Jun 2024) EllapsedTime: 423.0 seconds RetCode: 0 Status: WARNINGS CheckDir: icetea.Rcheck Warnings: 1