Package: iSEEindex Version: 1.2.0 Command: /Library/Frameworks/R.framework/Resources/bin/R CMD build --keep-empty-dirs --no-resave-data iSEEindex StartedAt: 2024-10-16 20:16:45 -0400 (Wed, 16 Oct 2024) EndedAt: 2024-10-16 20:18:46 -0400 (Wed, 16 Oct 2024) EllapsedTime: 121.5 seconds RetCode: 0 Status: OK PackageFile: iSEEindex_1.2.0.tar.gz PackageFileSize: 1.366 MiB