Package: iSEEhex Version: 1.6.0 Command: /Library/Frameworks/R.framework/Resources/bin/R CMD check --install=check:iSEEhex.install-out.txt --library=/Library/Frameworks/R.framework/Resources/library --no-vignettes --timings iSEEhex_1.6.0.tar.gz StartedAt: 2024-10-18 01:34:35 -0400 (Fri, 18 Oct 2024) EndedAt: 2024-10-18 01:39:14 -0400 (Fri, 18 Oct 2024) EllapsedTime: 278.9 seconds RetCode: 0 Status: OK CheckDir: iSEEhex.Rcheck Warnings: 0