Package: iSEE Version: 2.16.0 Maintainer: Kevin Rue-Albrecht MaintainerEmail: kevinrue67 at gmail.com git_url: https://git.bioconductor.org/packages/iSEE git_branch: RELEASE_3_19 git_last_commit: ef6667f git_last_commit_date: 2024-04-30 11:04:45 -0400 (Tue, 30 Apr 2024)