Package: hpar Version: 1.46.0 Command: chmod a+r hpar -R && F:\biocbuild\bbs-3.19-bioc\R\bin\R.exe CMD build --keep-empty-dirs --no-resave-data hpar StartedAt: 2024-06-26 19:30:02 -0400 (Wed, 26 Jun 2024) EndedAt: 2024-06-26 19:31:07 -0400 (Wed, 26 Jun 2024) EllapsedTime: 64.3 seconds RetCode: 0 Status: OK PackageFile: hpar_1.46.0.tar.gz PackageFileSize: 885.6 KiB