Package: hermes Version: 1.8.1 Command: /home/biocbuild/bbs-3.19-bioc/R/bin/R CMD check --install=check:hermes.install-out.txt --library=/home/biocbuild/bbs-3.19-bioc/R/site-library --timings hermes_1.8.1.tar.gz StartedAt: 2024-10-17 01:18:46 -0400 (Thu, 17 Oct 2024) EndedAt: 2024-10-17 01:27:56 -0400 (Thu, 17 Oct 2024) EllapsedTime: 550.2 seconds RetCode: 0 Status: OK CheckDir: hermes.Rcheck Warnings: 0