Package: hdxmsqc Version: 1.0.1 Command: rm -rf hdxmsqc.buildbin-libdir && mkdir hdxmsqc.buildbin-libdir && E:\biocbuild\bbs-3.19-bioc\R\bin\R.exe CMD INSTALL --build --library=hdxmsqc.buildbin-libdir hdxmsqc_1.0.1.tar.gz StartedAt: 2024-10-17 07:56:32 -0400 (Thu, 17 Oct 2024) EndedAt: 2024-10-17 07:57:10 -0400 (Thu, 17 Oct 2024) EllapsedTime: 38.1 seconds RetCode: 0 Status: OK PackageFile: hdxmsqc_1.0.1.zip PackageFileSize: 3.296 MiB