Package: hdxmsqc Version: 1.0.1 Command: /home/biocbuild/bbs-3.19-bioc/R/bin/R CMD check --install=check:hdxmsqc.install-out.txt --library=/home/biocbuild/bbs-3.19-bioc/R/site-library --timings hdxmsqc_1.0.1.tar.gz StartedAt: 2024-10-17 01:17:49 -0400 (Thu, 17 Oct 2024) EndedAt: 2024-10-17 01:25:30 -0400 (Thu, 17 Oct 2024) EllapsedTime: 461.0 seconds RetCode: 0 Status: OK CheckDir: hdxmsqc.Rcheck Warnings: 0