Package: hdxmsqc Version: 1.0.1 Command: /Library/Frameworks/R.framework/Resources/bin/R CMD INSTALL hdxmsqc StartedAt: 2024-10-16 16:03:23 -0400 (Wed, 16 Oct 2024) EndedAt: 2024-10-16 16:04:37 -0400 (Wed, 16 Oct 2024) EllapsedTime: 73.4 seconds RetCode: 0 Status: OK