Package: hdxmsqc Version: 1.0.1 Command: /Library/Frameworks/R.framework/Resources/bin/R CMD build --keep-empty-dirs --no-resave-data hdxmsqc StartedAt: 2024-10-16 19:55:19 -0400 (Wed, 16 Oct 2024) EndedAt: 2024-10-16 20:07:00 -0400 (Wed, 16 Oct 2024) EllapsedTime: 700.4 seconds RetCode: 0 Status: OK PackageFile: hdxmsqc_1.0.1.tar.gz PackageFileSize: 4.567 MiB