Package: h5vc Version: 2.38.0 Command: rm -rf h5vc.buildbin-libdir && mkdir h5vc.buildbin-libdir && /Users/biocbuild/BBS/utils/build-universal.sh h5vc_2.38.0.tar.gz /Library/Frameworks/R.framework/Resources/bin/R h5vc.buildbin-libdir StartedAt: 2024-10-17 16:20:09 -0400 (Thu, 17 Oct 2024) EndedAt: 2024-10-17 16:21:02 -0400 (Thu, 17 Oct 2024) EllapsedTime: 52.6 seconds RetCode: 0 Status: OK PackageFile: h5vc_2.38.0.tgz PackageFileSize: 2.159 MiB