Package: graphite Version: 1.50.0 Command: /home/biocbuild/R/R-beta-2024-04-15_r86425/bin/R CMD check --install=check:graphite.install-out.txt --library=/home/biocbuild/R/R-beta-2024-04-15_r86425/site-library --no-vignettes --timings graphite_1.50.0.tar.gz StartedAt: 2024-05-09 08:07:21 -0000 (Thu, 09 May 2024) EndedAt: 2024-05-09 08:13:01 -0000 (Thu, 09 May 2024) EllapsedTime: 339.6 seconds RetCode: 0 Status: OK CheckDir: graphite.Rcheck Warnings: 0