Package: granulator Version: 1.12.0 Command: /home/biocbuild/R/R-beta-2024-04-15_r86425/bin/R CMD build --keep-empty-dirs --no-resave-data granulator StartedAt: 2024-05-09 00:45:53 -0000 (Thu, 09 May 2024) EndedAt: 2024-05-09 00:49:27 -0000 (Thu, 09 May 2024) EllapsedTime: 214.3 seconds RetCode: 0 Status: OK PackageFile: granulator_1.12.0.tar.gz PackageFileSize: 987.6 KiB