Package: globalSeq Version: 1.32.0 Command: /home/biocbuild/bbs-3.19-bioc/R/bin/R CMD build --keep-empty-dirs --no-resave-data globalSeq StartedAt: 2024-10-16 18:45:20 -0400 (Wed, 16 Oct 2024) EndedAt: 2024-10-16 18:45:30 -0400 (Wed, 16 Oct 2024) EllapsedTime: 10.0 seconds RetCode: 0 Status: OK PackageFile: globalSeq_1.32.0.tar.gz PackageFileSize: 714.7 KiB