Package: girafe Version: 1.56.0 Command: rm -rf girafe.buildbin-libdir && mkdir girafe.buildbin-libdir && /Users/biocbuild/BBS/utils/build-universal.sh girafe_1.56.0.tar.gz /Library/Frameworks/R.framework/Resources/bin/R girafe.buildbin-libdir StartedAt: 2024-06-10 00:20:38 -0400 (Mon, 10 Jun 2024) EndedAt: 2024-06-10 00:21:33 -0400 (Mon, 10 Jun 2024) EllapsedTime: 55.3 seconds RetCode: 0 Status: OK PackageFile: girafe_1.56.0.tgz PackageFileSize: 2.353 MiB