Package: girafe Version: 1.56.0 Command: /Library/Frameworks/R.framework/Resources/bin/R CMD INSTALL girafe StartedAt: 2024-06-09 16:05:27 -0400 (Sun, 09 Jun 2024) EndedAt: 2024-06-09 16:06:23 -0400 (Sun, 09 Jun 2024) EllapsedTime: 56.4 seconds RetCode: 0 Status: OK