Package: ggtree Version: 3.12.0 Command: /home/biocbuild/R/R-beta-2024-04-15_r86425/bin/R CMD check --install=check:ggtree.install-out.txt --library=/home/biocbuild/R/R-beta-2024-04-15_r86425/site-library --no-vignettes --timings ggtree_3.12.0.tar.gz StartedAt: 2024-05-09 07:53:30 -0000 (Thu, 09 May 2024) EndedAt: 2024-05-09 07:57:09 -0000 (Thu, 09 May 2024) EllapsedTime: 219.4 seconds RetCode: 0 Status: OK CheckDir: ggtree.Rcheck Warnings: 0