Package: ggsc Version: 1.2.0 Command: /Library/Frameworks/R.framework/Resources/bin/R CMD build --keep-empty-dirs --no-resave-data ggsc StartedAt: 2024-06-09 16:48:26 -0400 (Sun, 09 Jun 2024) EndedAt: 2024-06-09 16:49:23 -0400 (Sun, 09 Jun 2024) EllapsedTime: 56.8 seconds RetCode: 0 Status: OK PackageFile: ggsc_1.2.0.tar.gz PackageFileSize: 74.67 KiB