Package: ggsc Version: 1.2.0 Command: /home/biocbuild/R/R-beta-2024-04-15_r86425/bin/R CMD check --install=check:ggsc.install-out.txt --library=/home/biocbuild/R/R-beta-2024-04-15_r86425/site-library --no-vignettes --timings ggsc_1.2.0.tar.gz StartedAt: 2024-05-09 07:53:30 -0000 (Thu, 09 May 2024) EndedAt: 2024-05-09 08:00:40 -0000 (Thu, 09 May 2024) EllapsedTime: 430.8 seconds RetCode: 0 Status: OK CheckDir: ggsc.Rcheck Warnings: 0