Package: ggsc Version: 1.2.0 Command: /Library/Frameworks/R.framework/Resources/bin/R CMD build --keep-empty-dirs --no-resave-data ggsc StartedAt: 2024-10-17 01:20:38 -0400 (Thu, 17 Oct 2024) EndedAt: 2024-10-17 01:21:41 -0400 (Thu, 17 Oct 2024) EllapsedTime: 63.6 seconds RetCode: 0 Status: OK PackageFile: ggsc_1.2.0.tar.gz PackageFileSize: 74.61 KiB