Package: ggsc Version: 1.2.0 Command: rm -rf ggsc.buildbin-libdir && mkdir ggsc.buildbin-libdir && /Users/biocbuild/BBS/utils/build-universal.sh ggsc_1.2.0.tar.gz /Library/Frameworks/R.framework/Resources/bin/R ggsc.buildbin-libdir StartedAt: 2024-10-18 18:44:12 -0400 (Fri, 18 Oct 2024) EndedAt: 2024-10-18 18:45:27 -0400 (Fri, 18 Oct 2024) EllapsedTime: 75.0 seconds RetCode: 0 Status: OK PackageFile: ggsc_1.2.0.tgz PackageFileSize: 300.2 KiB