Package: getDEE2 Version: 1.14.0 Command: /Library/Frameworks/R.framework/Resources/bin/R CMD build --keep-empty-dirs --no-resave-data getDEE2 StartedAt: 2024-10-16 19:34:27 -0400 (Wed, 16 Oct 2024) EndedAt: 2024-10-16 19:36:23 -0400 (Wed, 16 Oct 2024) EllapsedTime: 116.1 seconds RetCode: 0 Status: OK PackageFile: getDEE2_1.14.0.tar.gz PackageFileSize: 21.61 KiB