Package: gespeR Version: 1.36.0 Command: chmod a+r gespeR -R && F:\biocbuild\bbs-3.19-bioc\R\bin\R.exe CMD build --keep-empty-dirs --no-resave-data gespeR StartedAt: 2024-06-26 19:10:59 -0400 (Wed, 26 Jun 2024) EndedAt: 2024-06-26 19:12:08 -0400 (Wed, 26 Jun 2024) EllapsedTime: 68.5 seconds RetCode: 0 Status: OK PackageFile: gespeR_1.36.0.tar.gz PackageFileSize: 24.33 MiB