Package: gespeR Version: 1.36.0 Command: rm -rf gespeR.buildbin-libdir && mkdir gespeR.buildbin-libdir && F:\biocbuild\bbs-3.19-bioc\R\bin\R.exe CMD INSTALL --build --library=gespeR.buildbin-libdir gespeR_1.36.0.tar.gz StartedAt: 2024-06-27 08:17:15 -0400 (Thu, 27 Jun 2024) EndedAt: 2024-06-27 08:18:18 -0400 (Thu, 27 Jun 2024) EllapsedTime: 62.4 seconds RetCode: 0 Status: OK PackageFile: gespeR_1.36.0.zip PackageFileSize: 2.776 MiB