Package: genefu Version: 2.36.0 Command: chmod a+r genefu -R && F:\biocbuild\bbs-3.19-bioc\R\bin\R.exe CMD build --keep-empty-dirs --no-resave-data genefu StartedAt: 2024-06-26 19:05:17 -0400 (Wed, 26 Jun 2024) EndedAt: 2024-06-26 19:08:50 -0400 (Wed, 26 Jun 2024) EllapsedTime: 213.1 seconds RetCode: 0 Status: OK PackageFile: genefu_2.36.0.tar.gz PackageFileSize: 4.636 MiB