Package: gage Version: 2.54.0 Command: /Library/Frameworks/R.framework/Resources/bin/R CMD build --keep-empty-dirs --no-resave-data gage StartedAt: 2024-10-16 19:22:30 -0400 (Wed, 16 Oct 2024) EndedAt: 2024-10-16 19:27:48 -0400 (Wed, 16 Oct 2024) EllapsedTime: 318.0 seconds RetCode: 0 Status: OK PackageFile: gage_2.54.0.tar.gz PackageFileSize: 4.282 MiB