Package: gage Version: 2.54.0 Command: /Library/Frameworks/R.framework/Resources/bin/R CMD check --install=check:gage.install-out.txt --library=/Library/Frameworks/R.framework/Resources/library --no-vignettes --timings gage_2.54.0.tar.gz StartedAt: 2024-06-10 16:14:16 -0400 (Mon, 10 Jun 2024) EndedAt: 2024-06-10 16:17:20 -0400 (Mon, 10 Jun 2024) EllapsedTime: 184.0 seconds RetCode: 0 Status: WARNINGS CheckDir: gage.Rcheck Warnings: 1