Package: gDRcore Version: 1.2.0 Command: chmod a+r gDRcore -R && F:\biocbuild\bbs-3.19-bioc\R\bin\R.exe CMD build --keep-empty-dirs --no-resave-data gDRcore StartedAt: 2024-06-26 19:03:45 -0400 (Wed, 26 Jun 2024) EndedAt: 2024-06-26 19:04:40 -0400 (Wed, 26 Jun 2024) EllapsedTime: 54.8 seconds RetCode: 0 Status: OK PackageFile: gDRcore_1.2.0.tar.gz PackageFileSize: 1.088 MiB