Package: gDRcore Version: 1.2.0 Command: rm -rf gDRcore.buildbin-libdir && mkdir gDRcore.buildbin-libdir && F:\biocbuild\bbs-3.19-bioc\R\bin\R.exe CMD INSTALL --build --library=gDRcore.buildbin-libdir gDRcore_1.2.0.tar.gz StartedAt: 2024-06-27 08:14:55 -0400 (Thu, 27 Jun 2024) EndedAt: 2024-06-27 08:15:19 -0400 (Thu, 27 Jun 2024) EllapsedTime: 24.7 seconds RetCode: 0 Status: OK PackageFile: gDRcore_1.2.0.zip PackageFileSize: 1.331 MiB