Package: gDRcore Version: 1.2.0 Command: /home/biocbuild/bbs-3.19-bioc/R/bin/R CMD build --keep-empty-dirs --no-resave-data gDRcore StartedAt: 2024-10-16 18:35:55 -0400 (Wed, 16 Oct 2024) EndedAt: 2024-10-16 18:36:34 -0400 (Wed, 16 Oct 2024) EllapsedTime: 39.1 seconds RetCode: 0 Status: OK PackageFile: gDRcore_1.2.0.tar.gz PackageFileSize: 1.088 MiB