Package: gDRcore Version: 1.2.0 Command: /Library/Frameworks/R.framework/Resources/bin/R CMD build --keep-empty-dirs --no-resave-data gDRcore StartedAt: 2024-10-16 19:24:55 -0400 (Wed, 16 Oct 2024) EndedAt: 2024-10-16 19:26:37 -0400 (Wed, 16 Oct 2024) EllapsedTime: 102.0 seconds RetCode: 0 Status: OK PackageFile: gDRcore_1.2.0.tar.gz PackageFileSize: 1.087 MiB