Package: gDRcore Version: 1.2.0 Command: rm -rf gDRcore.buildbin-libdir && mkdir gDRcore.buildbin-libdir && /Users/biocbuild/BBS/utils/build-universal.sh gDRcore_1.2.0.tar.gz /Library/Frameworks/R.framework/Resources/bin/R gDRcore.buildbin-libdir StartedAt: 2024-06-10 00:19:08 -0400 (Mon, 10 Jun 2024) EndedAt: 2024-06-10 00:19:32 -0400 (Mon, 10 Jun 2024) EllapsedTime: 23.6 seconds RetCode: 0 Status: OK PackageFile: gDRcore_1.2.0.tgz PackageFileSize: 1.261 MiB