Package: gDNAx Version: 1.2.0 Command: /Library/Frameworks/R.framework/Resources/bin/R CMD INSTALL gDNAx StartedAt: 2024-06-09 15:25:53 -0400 (Sun, 09 Jun 2024) EndedAt: 2024-06-09 15:26:51 -0400 (Sun, 09 Jun 2024) EllapsedTime: 58.0 seconds RetCode: 0 Status: OK