Package: gDNAx Version: 1.2.0 Command: /home/biocbuild/R/R-beta-2024-04-15_r86425/bin/R CMD build --keep-empty-dirs --no-resave-data gDNAx StartedAt: 2024-05-09 00:25:33 -0000 (Thu, 09 May 2024) EndedAt: 2024-05-09 00:30:20 -0000 (Thu, 09 May 2024) EllapsedTime: 286.4 seconds RetCode: 0 Status: OK PackageFile: gDNAx_1.2.0.tar.gz PackageFileSize: 646.2 KiB