Package: fmrs Version: 1.14.0 Command: /Library/Frameworks/R.framework/Resources/bin/R CMD INSTALL fmrs StartedAt: 2024-10-16 16:14:20 -0400 (Wed, 16 Oct 2024) EndedAt: 2024-10-16 16:14:43 -0400 (Wed, 16 Oct 2024) EllapsedTime: 23.6 seconds RetCode: 0 Status: OK