Package: fmrs Version: 1.14.0 Command: /Library/Frameworks/R.framework/Resources/bin/R CMD INSTALL fmrs StartedAt: 2024-10-16 17:46:54 -0400 (Wed, 16 Oct 2024) EndedAt: 2024-10-16 17:47:07 -0400 (Wed, 16 Oct 2024) EllapsedTime: 12.6 seconds RetCode: 0 Status: OK