Package: fmcsR Version: 1.46.0 Command: E:\biocbuild\bbs-3.19-bioc\R\bin\R.exe CMD INSTALL fmcsR StartedAt: 2024-10-16 17:14:48 -0400 (Wed, 16 Oct 2024) EndedAt: 2024-10-16 17:15:15 -0400 (Wed, 16 Oct 2024) EllapsedTime: 27.0 seconds RetCode: 0 Status: OK