Package: fmcsR Version: 1.46.0 Command: /home/biocbuild/bbs-3.19-bioc/R/bin/R CMD INSTALL fmcsR StartedAt: 2024-10-16 16:41:10 -0400 (Wed, 16 Oct 2024) EndedAt: 2024-10-16 16:41:26 -0400 (Wed, 16 Oct 2024) EllapsedTime: 16.8 seconds RetCode: 0 Status: OK