Package: fmcsR Version: 1.46.0 Command: /Library/Frameworks/R.framework/Resources/bin/R CMD build --keep-empty-dirs --no-resave-data fmcsR StartedAt: 2024-06-09 21:45:28 -0400 (Sun, 09 Jun 2024) EndedAt: 2024-06-09 21:46:35 -0400 (Sun, 09 Jun 2024) EllapsedTime: 66.6 seconds RetCode: 0 Status: OK PackageFile: fmcsR_1.46.0.tar.gz PackageFileSize: 871.2 KiB