Package: fmcsR Version: 1.46.0 Command: rm -rf fmcsR.buildbin-libdir && mkdir fmcsR.buildbin-libdir && /Users/biocbuild/BBS/utils/build-universal.sh fmcsR_1.46.0.tar.gz /Library/Frameworks/R.framework/Resources/bin/R fmcsR.buildbin-libdir StartedAt: 2024-06-11 11:16:33 -0400 (Tue, 11 Jun 2024) EndedAt: 2024-06-11 11:17:25 -0400 (Tue, 11 Jun 2024) EllapsedTime: 52.6 seconds RetCode: 0 Status: OK PackageFile: fmcsR_1.46.0.tgz PackageFileSize: 1019 KiB