Package: flowVS Version: 1.36.0 Command: /home/biocbuild/R/R-beta-2024-04-15_r86425/bin/R CMD build --keep-empty-dirs --no-resave-data flowVS StartedAt: 2024-05-09 00:22:13 -0000 (Thu, 09 May 2024) EndedAt: 2024-05-09 00:25:31 -0000 (Thu, 09 May 2024) EllapsedTime: 198.3 seconds RetCode: 0 Status: OK PackageFile: flowVS_1.36.0.tar.gz PackageFileSize: 3.687 MiB