Package: flowVS Version: 1.36.0 Command: rm -rf flowVS.buildbin-libdir && mkdir flowVS.buildbin-libdir && /Users/biocbuild/BBS/utils/build-universal.sh flowVS_1.36.0.tar.gz /Library/Frameworks/R.framework/Resources/bin/R flowVS.buildbin-libdir StartedAt: 2024-10-18 18:32:44 -0400 (Fri, 18 Oct 2024) EndedAt: 2024-10-18 18:33:08 -0400 (Fri, 18 Oct 2024) EllapsedTime: 23.5 seconds RetCode: 0 Status: OK PackageFile: flowVS_1.36.0.tgz PackageFileSize: 3.586 MiB