Package: flowStats Version: 4.16.0 Command: rm -rf flowStats.buildbin-libdir && mkdir flowStats.buildbin-libdir && /Users/biocbuild/BBS/utils/build-universal.sh flowStats_4.16.0.tar.gz /Library/Frameworks/R.framework/Resources/bin/R flowStats.buildbin-libdir StartedAt: 2024-10-17 16:11:00 -0400 (Thu, 17 Oct 2024) EndedAt: 2024-10-17 16:12:15 -0400 (Thu, 17 Oct 2024) EllapsedTime: 75.3 seconds RetCode: 0 Status: OK PackageFile: flowStats_4.16.0.tgz PackageFileSize: 11.7 MiB