Package: flowPlots Version: 1.52.0 Command: rm -rf flowPlots.buildbin-libdir && mkdir flowPlots.buildbin-libdir && /Users/biocbuild/BBS/utils/build-universal.sh flowPlots_1.52.0.tar.gz /Library/Frameworks/R.framework/Resources/bin/R flowPlots.buildbin-libdir StartedAt: 2024-10-17 16:10:52 -0400 (Thu, 17 Oct 2024) EndedAt: 2024-10-17 16:11:02 -0400 (Thu, 17 Oct 2024) EllapsedTime: 9.3 seconds RetCode: 0 Status: OK PackageFile: flowPlots_1.52.0.tgz PackageFileSize: 845.1 KiB