Package: flowDensity Version: 1.38.0 Command: /Library/Frameworks/R.framework/Resources/bin/R CMD check --install=check:flowDensity.install-out.txt --library=/Library/Frameworks/R.framework/Resources/library --no-vignettes --timings flowDensity_1.38.0.tar.gz StartedAt: 2024-06-09 20:25:45 -0400 (Sun, 09 Jun 2024) EndedAt: 2024-06-09 20:26:54 -0400 (Sun, 09 Jun 2024) EllapsedTime: 69.3 seconds RetCode: 0 Status: WARNINGS CheckDir: flowDensity.Rcheck Warnings: 3