Package: flowCut Version: 1.14.0 Command: /Library/Frameworks/R.framework/Resources/bin/R CMD build --keep-empty-dirs --no-resave-data flowCut StartedAt: 2024-10-17 00:35:40 -0400 (Thu, 17 Oct 2024) EndedAt: 2024-10-17 00:36:18 -0400 (Thu, 17 Oct 2024) EllapsedTime: 38.0 seconds RetCode: 0 Status: OK PackageFile: flowCut_1.14.0.tar.gz PackageFileSize: 8.384 MiB