Package: flowBin Version: 1.40.0 Command: /home/biocbuild/bbs-3.19-bioc/R/bin/R CMD build --keep-empty-dirs --no-resave-data flowBin StartedAt: 2024-10-16 18:31:20 -0400 (Wed, 16 Oct 2024) EndedAt: 2024-10-16 18:31:43 -0400 (Wed, 16 Oct 2024) EllapsedTime: 23.1 seconds RetCode: 0 Status: OK PackageFile: flowBin_1.40.0.tar.gz PackageFileSize: 481.5 KiB